BEGIN:VCALENDAR
VERSION:2.0
PRODID:-//Hope Community Church - ECPv6.15.18//NONSGML v1.0//EN
CALSCALE:GREGORIAN
METHOD:PUBLISH
X-WR-CALNAME:Hope Community Church
X-ORIGINAL-URL:https://gethope.net
X-WR-CALDESC:Events for Hope Community Church
REFRESH-INTERVAL;VALUE=DURATION:PT1H
X-Robots-Tag:noindex
X-PUBLISHED-TTL:PT1H
BEGIN:VTIMEZONE
TZID:America/New_York
BEGIN:DAYLIGHT
TZOFFSETFROM:-0500
TZOFFSETTO:-0400
TZNAME:EDT
DTSTART:20250309T070000
END:DAYLIGHT
BEGIN:STANDARD
TZOFFSETFROM:-0400
TZOFFSETTO:-0500
TZNAME:EST
DTSTART:20251102T060000
END:STANDARD
BEGIN:DAYLIGHT
TZOFFSETFROM:-0500
TZOFFSETTO:-0400
TZNAME:EDT
DTSTART:20260308T070000
END:DAYLIGHT
BEGIN:STANDARD
TZOFFSETFROM:-0400
TZOFFSETTO:-0500
TZNAME:EST
DTSTART:20261101T060000
END:STANDARD
BEGIN:DAYLIGHT
TZOFFSETFROM:-0500
TZOFFSETTO:-0400
TZNAME:EDT
DTSTART:20270314T070000
END:DAYLIGHT
BEGIN:STANDARD
TZOFFSETFROM:-0400
TZOFFSETTO:-0500
TZNAME:EST
DTSTART:20271107T060000
END:STANDARD
END:VTIMEZONE
BEGIN:VEVENT
DTSTART;TZID=America/New_York:20260602T183000
DTEND;TZID=America/New_York:20260602T193000
DTSTAMP:20260422T055422
CREATED:20260406T104247Z
LAST-MODIFIED:20260406T104247Z
UID:10047241-1780425000-1780428600@gethope.net
SUMMARY:Join us at Raleigh Campus for Women's Night.
DESCRIPTION:Connect & Grow Alongside Other Women \nJoin us at the Raleigh Campus on Tuesday\, June 2 from 6:30-8:30 PM for a night of worship\, teaching\, and connection. Fill out the brief form below to let us know you plan to join us. \n 
URL:https://gethope.net/event/join-us-at-raleigh-campus-for-womens-night/
LOCATION:NC
ATTACH;FMTTYPE=image/jpeg:https://gethope.net/wp-content/uploads/2026/04/5913-a0197ab175034fdfb1c63eff13a8ee48-ofQ0G2.jpg
END:VEVENT
BEGIN:VEVENT
DTSTART;TZID=America/New_York:20260603T150000
DTEND;TZID=America/New_York:20260603T160000
DTSTAMP:20260422T055422
CREATED:20260412T140417Z
LAST-MODIFIED:20260412T140417Z
UID:10047253-1780498800-1780502400@gethope.net
SUMMARY:Young at Heart: RSVP to attend our monthly gatherings!
DESCRIPTION:Join Us \nWe get together on the first Wednesday of each month from 3:00–5:00 PM in the Apex Room at Apex Campus. Each month brings something new — great conversations\, connection\, and a chance to grow in community. \nDon’t forget to sign up for the months you plan to come — we can’t wait to see you there! \n  \nStay Connected \nThe Young at Heart email list is the best way to stay connected and hear about all of our upcoming gatherings. When you sign up for one of our events\, you’ll automatically be added to our email list. \nYou can also sign up and manage your Hope subscriptions through the Hope App. To stay up to date\, click the “Subscriptions” banner on the homepage and select the email lists you’d like to receive.  \n 
URL:https://gethope.net/event/young-at-heart-rsvp-to-attend-our-monthly-gatherings-2/
LOCATION:Apex Campus\, 2080 East Williams Street\, Apex\, NC\, 27539
ATTACH;FMTTYPE=image/png:https://gethope.net/wp-content/uploads/2026/04/5652-3b0b881a92de472da96df90264f95088-p6AuZV.png
END:VEVENT
BEGIN:VEVENT
DTSTART;TZID=America/New_York:20260607T103000
DTEND;TZID=America/New_York:20260607T113000
DTSTAMP:20260422T055422
CREATED:20260409T131218Z
LAST-MODIFIED:20260409T131218Z
UID:10047251-1780828200-1780831800@gethope.net
SUMMARY:We want to meet you!
DESCRIPTION:  \nStop by and meet some other women from the Apex campus! We’ll be in Room 19 between services—hope to see you there.
URL:https://gethope.net/event/we-want-to-meet-you-3/
LOCATION:Apex Campus\, 2080 East Williams Street\, Apex\, NC\, 27539
ATTACH;FMTTYPE=image/jpeg:https://gethope.net/wp-content/uploads/2026/04/5935-077971d708aa486da6abc57ebf59d42e-QYl54h.jpg
END:VEVENT
END:VCALENDAR